BEGIN:VCALENDAR
VERSION:2.0
PRODID:-//Concord&#039;s Colonial Inn - ECPv6.15.17.1//NONSGML v1.0//EN
CALSCALE:GREGORIAN
METHOD:PUBLISH
X-WR-CALNAME:Concord&#039;s Colonial Inn
X-ORIGINAL-URL:https://concordscolonialinn.com
X-WR-CALDESC:Events for Concord&#039;s Colonial Inn
REFRESH-INTERVAL;VALUE=DURATION:PT1H
X-Robots-Tag:noindex
X-PUBLISHED-TTL:PT1H
BEGIN:VTIMEZONE
TZID:America/New_York
BEGIN:DAYLIGHT
TZOFFSETFROM:-0500
TZOFFSETTO:-0400
TZNAME:EDT
DTSTART:20240310T070000
END:DAYLIGHT
BEGIN:STANDARD
TZOFFSETFROM:-0400
TZOFFSETTO:-0500
TZNAME:EST
DTSTART:20241103T060000
END:STANDARD
BEGIN:DAYLIGHT
TZOFFSETFROM:-0500
TZOFFSETTO:-0400
TZNAME:EDT
DTSTART:20250309T070000
END:DAYLIGHT
BEGIN:STANDARD
TZOFFSETFROM:-0400
TZOFFSETTO:-0500
TZNAME:EST
DTSTART:20251102T060000
END:STANDARD
BEGIN:DAYLIGHT
TZOFFSETFROM:-0500
TZOFFSETTO:-0400
TZNAME:EDT
DTSTART:20260308T070000
END:DAYLIGHT
BEGIN:STANDARD
TZOFFSETFROM:-0400
TZOFFSETTO:-0500
TZNAME:EST
DTSTART:20261101T060000
END:STANDARD
END:VTIMEZONE
BEGIN:VEVENT
DTSTART;TZID=America/New_York:20250122T150000
DTEND;TZID=America/New_York:20250122T160000
DTSTAMP:20260424T062354
CREATED:20250117T191121Z
LAST-MODIFIED:20250117T191135Z
UID:2998-1737558000-1737561600@concordscolonialinn.com
SUMMARY:MA Historical Society Lecture Series: Letters from Abigail Adams
DESCRIPTION:Hobson Woodward\, Adams Family Correspondence Series Editor for the Adams Papers Editorial Project at the Massachusetts Historical Society\, will explore the life and times of Abigail Adams through her letters and the correspondence of family and friends. Abigail’s experience of the Battle of Bunker Hill will be the initial focus\, and then explore her life as a revolutionary patriot\, European traveler\, first lady\, investor\, sister\, mother\, and grandmother. Life on Abigail’s beloved Peacefield farm in Quincy will be brought into focus\, as will her role as an astute observer of the politics of the Early Republic. \n  \nSuitable for adults and children ages 12+. Free admission\, advanced registration is requested: events@newburycourt.org \nLocation: Newbury Court Senior Living Community: 100 Newbury Court\, Concord\, MA 01742
URL:https://concordscolonialinn.com/event/ma-historical-society-lecture-series-letters-from-abigail-adams/
LOCATION:Newbury Court\, 100 Newbury Court\, Concord\, 01742
CATEGORIES:Concord250
ATTACH;FMTTYPE=image/png:https://concordscolonialinn.com/wp-content/uploads/2025/01/Letters-of-Abigail-Adams-2025-9pdOXT.tmp_.png
ORGANIZER;CN="Newbury Court":MAILTO:events@newburycourt.org
END:VEVENT
END:VCALENDAR